BEGIN:VCALENDAR
VERSION:2.0
PRODID:-//Library Market//iCal Export//EN
BEGIN:VEVENT
SUMMARY:Tai Chi Chih
UID:25735
DTSTAMP:20260426T010400Z
DTSTART:20260614T173000Z
DTEND:20260614T183000Z
LOCATION:606 Delsea Dr., Sewell, NJ 08080, United States
ROOM: Meeting Room
DESCRIPTION:T&#039;ai Chi Chih is a gentle moving mediation meant to activ
 ate, circulate, and balance the body&#039;s energy. It promotes peace and 
 well-being. Join certified instructor Cady Moraczewski for a relaxing sess
 ion of T&#039;ai Chi Chih. All fitness levels and abilities are welcome. N
 o special equipment is needed. This program is limited to adult Heggan car
 dholders. Advance registration is required. Attendees must arrive five min
 utes before the start of the class. Please understand latecomers will not 
 be admitted. 
URL:https://heggan.librarycalendar.com/event/tai-chi-25735
END:VEVENT
END:VCALENDAR
